BEGIN:VCALENDAR
VERSION:2.0
PRODID:-//eventon.com NONSGML v1.0//EN
CALSCALE:GREGORIAN
METHOD:PUBLISH
BEGIN:VEVENT
UID:69e4d5031f521
DTSTAMP:20260419T131339Z
DTSTART:20241206T000000Z
DTEND:20250518T000000Z
LOCATION:Slovenská Národní Galerie Rázusovo nábrežie 2\,  Bratislava
SUMMARY:Plody sváru: Obraz osmanskej prítomnosti
DESCRIPTION:Výstava na príkladoch bohatej kultúrnej výmeny predstavuje 
 zaujímavý\,  no zároveň dramatický príbeh uhorsko-osmanských vzťaho
 v v 16. a 17. storočí. Približuje obdobie osmanskej expanzie v Uhorsku a
  tiež vzájomné vplyvy – špeciálne presahy osmanskej hmotnej kultúry
  do stredoeurópskeho umenia.\nhttps://kunsttrans.cz/events/plody-svaru-obr
 az-osmanskej-pritomnosti/
URL:https://kunsttrans.cz/events/plody-svaru-obraz-osmanskej-pritomnosti/
END:VEVENT
END:VCALENDAR