BEGIN:VCALENDAR
VERSION:2.0
PRODID:-//eventon.com NONSGML v1.0//EN
CALSCALE:GREGORIAN
METHOD:PUBLISH
BEGIN:VEVENT
UID:69e4d5fc0fa59
DTSTAMP:20260419T131748Z
DTSTART:20230316
DTEND:20230318
LOCATION:Guggenheim Museum Bilbao Avenida Abandoibarra\,  2 48009 Bilbao
SUMMARY:Oskar Kokoschka. A Rebel from Vienna
DESCRIPTION:A painter\,  poet\,  writer\,  essayist\,  and playwright\,  Os
 kar Kokoschka (b. 1886; d. 1980) began his career in early 20th-century Vie
 nna alongside artists Gustav Klimt (b. 1862; d. 1918) and Egon Schiele (b. 
 1890; d. 1918). His first works shocked the public and critics alike\,  ear
 ning him the nickname Oberwildling—“the most[..]\nhttps://kunsttrans.cz
 /en/events/oskar-kokoschka-a-rebel-from-vienna-2/
URL:https://kunsttrans.cz/en/events/oskar-kokoschka-a-rebel-from-vienna-2/
END:VEVENT
END:VCALENDAR