BEGIN:VCALENDAR
VERSION:2.0
PRODID:-//eventon.com NONSGML v1.0//EN
CALSCALE:GREGORIAN
METHOD:PUBLISH
BEGIN:VEVENT
UID:69e4d62b5c8b7
DTSTAMP:20260419T131835Z
DTSTART:20231005
DTEND:20231007
LOCATION:Leopold Museum Wien Museumsplatz 1\,  1070 Wien\,  Rakousko
SUMMARY:MAX OPPENHEIMER: EXPRESSIONIST PIONEER
DESCRIPTION:Max Oppenheimer was an Expressionist pioneer. Born in 1885 in V
 ienna\,  he first studied at the Vienna Academy of Fine Arts and later at t
 he Art Academy in Prague. He participated in the legendary exhibitions Kuns
 tschau Wien 1908 and Internationale Kunstschau Wien 1909 where he became ac
 quainted with numerous progressive[..]\nhttps://kunsttrans.cz/events/max-op
 penheimer-expressionist-pioneer/
URL:https://kunsttrans.cz/events/max-oppenheimer-expressionist-pioneer/
END:VEVENT
END:VCALENDAR