BEGIN:VCALENDAR
VERSION:2.0
PRODID:-//eventon.com NONSGML v1.0//EN
CALSCALE:GREGORIAN
METHOD:PUBLISH
BEGIN:VEVENT
UID:69e4d6ad1519b
DTSTAMP:20260419T132045Z
DTSTART:20230429T214800Z
DTEND:20230903T214800Z
LOCATION:Stedelijk Museum Alkmaar Canadaplein 1\,  1811 KE Alkmaar\,  Netherlands
SUMMARY:Van Gogh\,  Cézanne\,  Le Fauconnier & de Bergense School
DESCRIPTION:In spring 2023\,  the most famous artists of the late nineteent
 h century will take centre stage at Stedelijk Museum Alkmaar: Vincent van G
 ogh (1853-1890)\,  Paul Cézanne (1839-1906) and Henri Le Fauconnier (1881-
 1945). What influence did they have on the genesis of the Bergen School?\nh
 ttps://kunsttrans.cz/events/van-gogh-cezanne-le-fauconnier-de-bergense-scho
 ol/
URL:https://kunsttrans.cz/events/van-gogh-cezanne-le-fauconnier-de-bergense-school/
END:VEVENT
END:VCALENDAR