BEGIN:VCALENDAR
VERSION:2.0
PRODID:-//eventon.com NONSGML v1.0//EN
CALSCALE:GREGORIAN
METHOD:PUBLISH
BEGIN:VEVENT
UID:69e4db15c8733
DTSTAMP:20260419T133933Z
DTSTART:20230330
DTEND:20230401
LOCATION:Národní galerie v Praze\,  Valdštejnská jízdárna Valdštejnská 1\,  118 00 Malá Strana
SUMMARY:Josef Mánes: Člověk ⁠–⁠ umělec ⁠–⁠ legenda
DESCRIPTION:Josef Mánes je jedním z nejvýznamnějších českých umělc
 ů 19. století. Jeho tvorba se vyznačuje neobyčejnou šíří a kvalitou
  ⁠–⁠ zahrnuje práce určené do veřejného prostoru i vyhraněně i
 ntimního charakteru\,  díla nadčasová i zcela aktuální\,  podobizny\,
   krajiny i alegorie; plátna\,  kresby i grafiky. Výstava představuje st
 ěžejní okruhy Mánesovy tvorby a doplňuje[..]\nhttps://kunsttrans.cz/ev
 ents/josef-manes-clovek-%e2%81%a0-%e2%81%a0-umelec-%e2%81%a0-%e2%81%a0-lege
 nda/
URL:https://kunsttrans.cz/events/josef-manes-clovek-%e2%81%a0-%e2%81%a0-umelec-%e2%81%a0-%e2%81%a0-legenda/
END:VEVENT
END:VCALENDAR