BEGIN:VCALENDAR
VERSION:2.0
PRODID:-//eventon.com NONSGML v1.0//EN
CALSCALE:GREGORIAN
METHOD:PUBLISH
BEGIN:VEVENT
UID:69e4daf732c67
DTSTAMP:20260419T133903Z
DTSTART:20230210
DTEND:20230212
LOCATION:Mint Museum Uptown\,  Charlotte 500 South Tryon Street Charlotte\,  NC 28202 704-337-2000
SUMMARY:Picasso Landscapes: Out of Bounds
DESCRIPTION:Picasso Landscapes: Out of Bounds is the first museum exhibit
 ion to explore Pablo Picasso’s deep engagement with landscape subjects an
 d his expansive approach to this traditional genre.\nhttps://kunsttrans.cz/
 en/events/picasso-landscapesout-of-bounds/
URL:https://kunsttrans.cz/en/events/picasso-landscapesout-of-bounds/
END:VEVENT
END:VCALENDAR