BEGIN:VCALENDAR
VERSION:2.0
PRODID:-//eventon.com NONSGML v1.0//EN
CALSCALE:GREGORIAN
METHOD:PUBLISH
BEGIN:VEVENT
UID:69e4c1fe0b6b6
DTSTAMP:20260419T115230Z
DTSTART:20220714
DTEND:20220716
LOCATION:Národní galerie v Praze\,  Valdštejnská jízdárna Valdštejnská 1\,  118 00 Malá Strana
SUMMARY:Mucha: Rodinná sbírka
DESCRIPTION:Výstava MUCHA\,  rodinná sbírka představí díla Alfonse Mu
 chy způsobem\,  jakým doposud nebyl prezentován. Příběh celosvětově
  známého a uznávaného umělce budou vyprávět vybrané malby\,  sochy\
 ,  fotografie\,  reklamní předměty z rodinné sbírky a některé origin
 ály veřejnost uvidí úplně poprvé.\nhttps://kunsttrans.cz/events/mucha
 -rodinna-sbirka/
URL:https://kunsttrans.cz/events/mucha-rodinna-sbirka/
END:VEVENT
END:VCALENDAR