BEGIN:VCALENDAR
VERSION:2.0
PRODID:-//eventon.com NONSGML v1.0//EN
CALSCALE:GREGORIAN
METHOD:PUBLISH
BEGIN:VEVENT
UID:69e4d7696b675
DTSTAMP:20260419T132353Z
DTSTART:20211124
DTEND:20211126
LOCATION:Museum of Decorative Arts in Prague ulice 17. listopadu 2\,  110 00 Praha 1
SUMMARY:Fashion in blue.
DESCRIPTION:This exhibition at the Museum of Decorative Arts in Prague will
  present historical and entirely contemporary Czech and Japanese textiles m
 ade using a technique known as indigo blue-dyeing or shibori. The exhibitio
 n will show that these traditional technologies have not been left to the p
 ast but are still used in[..]\nhttps://kunsttrans.cz/en/events/fashion-in-b
 lue/
URL:https://kunsttrans.cz/en/events/fashion-in-blue/
END:VEVENT
END:VCALENDAR