BEGIN:VCALENDAR
VERSION:2.0
PRODID:-//eventon.com NONSGML v1.0//EN
CALSCALE:GREGORIAN
METHOD:PUBLISH
BEGIN:VEVENT
UID:69e4c229eacba
DTSTAMP:20260419T115313Z
DTSTART:20211118
DTEND:20211120
LOCATION:National Gallery in Prague\,  Sternberg Palace Hradčanské nám. 57/15\,  118 00 Praha 1
SUMMARY:Forgeries? Forgeries!
DESCRIPTION:How can we tell originals from fakes? Imitations of outstanding
  works of art are still made today and pose a threat to museums and galleri
 es alike\,  as they do for private collectors. The exhibition Forgeries? Fo
 rgeries! mounted in Sternberg Palace on Hradčanské náměstí square will
  show imitations of medieval paintings\, [..]\nhttps://kunsttrans.cz/en/eve
 nts/forgeries-forgeries/
URL:https://kunsttrans.cz/en/events/forgeries-forgeries/
END:VEVENT
END:VCALENDAR