BEGIN:VCALENDAR
VERSION:2.0
PRODID:-//eventon.com NONSGML v1.0//EN
CALSCALE:GREGORIAN
METHOD:PUBLISH
BEGIN:VEVENT
UID:69e4d5b5001b6
DTSTAMP:20260419T131637Z
DTSTART:20211014
DTEND:20211016
LOCATION:Prague archbishopric Valdstejnska 14\,  Prague 1
SUMMARY:St. Ludmila\,  lady dear to the people
DESCRIPTION:An unique exhibition about the life and legacy of Ludmila from 
 the House of Přemyslid is held from October 15th in Pálffy Palace\,  Prag
 ue\,  Malá Strana.\nhttps://kunsttrans.cz/en/events/st-ludmila-lady-dear-t
 o-the-people/
URL:https://kunsttrans.cz/en/events/st-ludmila-lady-dear-to-the-people/
END:VEVENT
END:VCALENDAR