BEGIN:VCALENDAR
VERSION:2.0
PRODID:-//eventon.com NONSGML v1.0//EN
CALSCALE:GREGORIAN
METHOD:PUBLISH
BEGIN:VEVENT
UID:69e4d5c425ff7
DTSTAMP:20260419T131652Z
DTSTART:20190713T225700Z
DTEND:20201129T225700Z
LOCATION:The Bunkamura Museum of Art\,  Tokyo 2 Chome-24-1 Dogenzaka\,  Shibuya City\,  Tokyo 150-8507\,  Japan
SUMMARY:Timeless Mucha - Mucha to Manga: The Magic of Line
DESCRIPTION:The Bunkamura Museum of Art\,  Tokyo The Museum of Kyoto Sappor
 o Art Museum Nagoya City Art Museum Shizuoka Prefectural Museum of Art Mats
 umoto City Museum of Art\nhttps://kunsttrans.cz/en/events/timeless-mucha-mu
 cha-to-manga-the-magic-of-line-2/
URL:https://kunsttrans.cz/en/events/timeless-mucha-mucha-to-manga-the-magic-of-line-2/
END:VEVENT
END:VCALENDAR