BEGIN:VCALENDAR
VERSION:2.0
PRODID:-//eventon.com NONSGML v1.0//EN
CALSCALE:GREGORIAN
METHOD:PUBLISH
BEGIN:VEVENT
UID:69e4dadc8932f
DTSTAMP:20260419T133836Z
DTSTART:20190611T200100Z
DTEND:20190611T200100Z
LOCATION:Prague Castle Riding School U Prašného mostu 3\,  118 00 Praha 1-Hradčany
SUMMARY:Impressionism from Dawn till Dusk: Slovenian Art1870 - 1930
DESCRIPTION:Impressionism from Dawn till Dusk: Slovenian Art1870 - 1930\nht
 tps://kunsttrans.cz/en/events/impressionism-from-dawn-till-dusk-slovenian-a
 rt1870-1930/
URL:https://kunsttrans.cz/en/events/impressionism-from-dawn-till-dusk-slovenian-art1870-1930/
END:VEVENT
END:VCALENDAR