BEGIN:VCALENDAR
VERSION:2.0
PRODID:-//eventon.com NONSGML v1.0//EN
CALSCALE:GREGORIAN
METHOD:PUBLISH
BEGIN:VEVENT
UID:69e4c1fb68ddc
DTSTAMP:20260419T115227Z
DTSTART:20190316T194000Z
DTEND:20190818T194000Z
LOCATION:Tretyakov Gallery Lavrushinsky Ln\,  10\,  Moskva\,  Rusko\,  119017
SUMMARY:Ilya Repin
DESCRIPTION:Ilya Repin\nhttps://kunsttrans.cz/events/ilya-repin/
URL:https://kunsttrans.cz/events/ilya-repin/
END:VEVENT
END:VCALENDAR