BEGIN:VCALENDAR
VERSION:2.0
PRODID:-//eventon.com NONSGML v1.0//EN
CALSCALE:GREGORIAN
METHOD:PUBLISH
BEGIN:VEVENT
UID:69e4d55b718ad
DTSTAMP:20260419T131507Z
DTSTART:20190406T175200Z
DTEND:20190708T175200Z
LOCATION:Leopold Museum Wien Museumsplatz 1\,  1070 Wien\,  Rakousko
SUMMARY:Oskar Kokoschka. Expressionist\,  Migrant\,  European – A Retrospective
DESCRIPTION:Oskar Kokoschka. Expressionist\,  Migrant\,  European – A Ret
 rospective\nhttps://kunsttrans.cz/events/oskar-kokoschka-expressionist-migr
 ant-european-a-retrospective/
URL:https://kunsttrans.cz/events/oskar-kokoschka-expressionist-migrant-european-a-retrospective/
END:VEVENT
END:VCALENDAR