BEGIN:VCALENDAR
VERSION:2.0
PRODID:-//eventon.com NONSGML v1.0//EN
CALSCALE:GREGORIAN
METHOD:PUBLISH
BEGIN:VEVENT
UID:69e4daa212c38
DTSTAMP:20260419T133738Z
DTSTART:20181017T171400Z
DTEND:20190225T171400Z
LOCATION:Centre Pompidou Paris Place Georges-Pompidou\,  75004 Paris\,  Francie
SUMMARY:Le Cubisme
DESCRIPTION:Le Cubisme\nhttps://kunsttrans.cz/events/le-cubisme/
URL:https://kunsttrans.cz/events/le-cubisme/
END:VEVENT
END:VCALENDAR