BEGIN:VCALENDAR
VERSION:2.0
PRODID:-//eventon.com NONSGML v1.0//EN
CALSCALE:GREGORIAN
METHOD:PUBLISH
BEGIN:VEVENT
UID:69e4c4bd077e0
DTSTAMP:20260419T120413Z
DTSTART:20181026T170900Z
DTEND:20190224T170900Z
LOCATION:Moravská galerie v Brně Husova 18\,  662 26 Brno
SUMMARY:Josef Šíma: Cesta k Vysoké hře
DESCRIPTION:Josef Šíma: Cesta k Vysoké hře\nhttps://kunsttrans.cz/event
 s/josef-sima-cesta-k-vysoke-hre/
URL:https://kunsttrans.cz/events/josef-sima-cesta-k-vysoke-hre/
END:VEVENT
END:VCALENDAR