BEGIN:VCALENDAR
VERSION:2.0
PRODID:-//eventon.com NONSGML v1.0//EN
CALSCALE:GREGORIAN
METHOD:PUBLISH
BEGIN:VEVENT
UID:69e4c3f760bd2
DTSTAMP:20260419T120055Z
DTSTART:20180707T201200Z
DTEND:20180903T201200Z
LOCATION:Toyama Glass Art Museum Nishicho\,  Toyama\,  Toyama Prefecture 930-0062\,  Japan
SUMMARY:Alena Matějka: Journey to the Mystic World
DESCRIPTION:Alena Matějka: Journey to the Mystic World\nhttps://kunsttrans
 .cz/en/events/alena-matejka-journey-to-the-mystic-world-2/
URL:https://kunsttrans.cz/en/events/alena-matejka-journey-to-the-mystic-world-2/
END:VEVENT
END:VCALENDAR