BEGIN:VCALENDAR
VERSION:2.0
PRODID:-//eventon.com NONSGML v1.0//EN
CALSCALE:GREGORIAN
METHOD:PUBLISH
BEGIN:VEVENT
UID:69e4c406caf96
DTSTAMP:20260419T120110Z
DTSTART:20181116T200900Z
DTEND:20190317T200900Z
LOCATION:Národní galerie v Praze\,  Palác Kinských Staroměstské nám. 12\,  110 15 Praha 1 - Staré Město-Staré Město
SUMMARY:Bonjour\,  monsieur Gauguin: čeští umělci v Bretani 1850 – 1950
DESCRIPTION:Bonjour\,  monsieur Gauguin: čeští umělci v Bretani 1850 
  1950\nhttps://kunsttrans.cz/events/bonjour-monsieur-gauguin-cesti-umelci-
 v-bretani-1850-1950/
URL:https://kunsttrans.cz/events/bonjour-monsieur-gauguin-cesti-umelci-v-bretani-1850-1950/
END:VEVENT
END:VCALENDAR