BEGIN:VCALENDAR
VERSION:2.0
PRODID:-//eventon.com NONSGML v1.0//EN
CALSCALE:GREGORIAN
METHOD:PUBLISH
BEGIN:VEVENT
UID:69e4dae7c0df2
DTSTAMP:20260419T133847Z
DTSTART:20181002T200700Z
DTEND:20190113T200700Z
LOCATION:Kunsthistorisches Museum Wien Maria-Theresien-Platz\,  1010 Wien\,  Rakousko
SUMMARY:Bruegel
DESCRIPTION:Bruegel\nhttps://kunsttrans.cz/events/bruegel/
URL:https://kunsttrans.cz/events/bruegel/
END:VEVENT
END:VCALENDAR