BEGIN:VCALENDAR
VERSION:2.0
PRODID:-//eventon.com NONSGML v1.0//EN
CALSCALE:GREGORIAN
METHOD:PUBLISH
BEGIN:VEVENT
UID:69e4da9f1c6e1
DTSTAMP:20260419T133735Z
DTSTART:20180928T200600Z
DTEND:20190303T200600Z
LOCATION:Staatliches Museum für Archäologie Chemnitz Staatliches Museum für Archäologie Chemnitz\,  Germany
SUMMARY:Sachsen Böhmen 7000
DESCRIPTION:Sachsen Böhmen 7000\nhttps://kunsttrans.cz/en/events/sachsen-b
 ohmen-7000-2/
URL:https://kunsttrans.cz/en/events/sachsen-bohmen-7000-2/
END:VEVENT
END:VCALENDAR