BEGIN:VCALENDAR
VERSION:2.0
PRODID:-//eventon.com NONSGML v1.0//EN
CALSCALE:GREGORIAN
METHOD:PUBLISH
BEGIN:VEVENT
UID:69e4c44ff2873
DTSTAMP:20260419T120223Z
DTSTART:20180921T200400Z
DTEND:20190127T200400Z
LOCATION:Museum of Modern Art Denisova 824/47\,  779 00 Olomouc
SUMMARY:Years of Disarray 1908-1928. Avant-gardes in the Central Europe
DESCRIPTION:Years of Disarray 1908-1928. Avant-gardes in the Central Europe
 \nhttps://kunsttrans.cz/en/events/years-of-disarray-1908-1928-avant-gardes-
 in-the-central-europe/
URL:https://kunsttrans.cz/en/events/years-of-disarray-1908-1928-avant-gardes-in-the-central-europe/
END:VEVENT
END:VCALENDAR