BEGIN:VCALENDAR
VERSION:2.0
PRODID:-//eventon.com NONSGML v1.0//EN
CALSCALE:GREGORIAN
METHOD:PUBLISH
BEGIN:VEVENT
UID:69e4daec17ca2
DTSTAMP:20260419T133852Z
DTSTART:20180912T200000Z
DTEND:20190127T200000Z
LOCATION:Musée du Luxembourg\,  Paris 19 Rue de Vaugirard\,  75006 Paris\,  France
SUMMARY:Alphonse Mucha
DESCRIPTION:Alphonse Mucha\nhttps://kunsttrans.cz/en/events/alphonse-mucha-
 2/
URL:https://kunsttrans.cz/en/events/alphonse-mucha-2/
END:VEVENT
END:VCALENDAR