BEGIN:VCALENDAR
VERSION:2.0
PRODID:-//eventon.com NONSGML v1.0//EN
CALSCALE:GREGORIAN
METHOD:PUBLISH
BEGIN:VEVENT
UID:69e4daa512ce0
DTSTAMP:20260419T133741Z
DTSTART:20180908T195700Z
DTEND:20181021T195700Z
LOCATION:Gallery of Havlickuv Brod Havlíčkovo nám. 18\,  580 01 Havlíčkův Brod
SUMMARY:Jan Antonín Venuto
DESCRIPTION:Jan Antonín Venuto\nhttps://kunsttrans.cz/en/events/jan-antoni
 n-venuto-2/
URL:https://kunsttrans.cz/en/events/jan-antonin-venuto-2/
END:VEVENT
END:VCALENDAR