BEGIN:VCALENDAR
VERSION:2.0
PRODID:-//eventon.com NONSGML v1.0//EN
CALSCALE:GREGORIAN
METHOD:PUBLISH
BEGIN:VEVENT
UID:69e4db32bafda
DTSTAMP:20260419T134002Z
DTSTART:20180907T195500Z
DTEND:20190110T195500Z
LOCATION:National Gallery in Prague\,  Wallenstein Riding School Valdštejnská 1\,  118 00 Malá Strana
SUMMARY:František Kupka 1871 - 1957
DESCRIPTION:František Kupka 1871 - 1957\nhttps://kunsttrans.cz/en/events/f
 rantisek-kupka-1871-1957-2/
URL:https://kunsttrans.cz/en/events/frantisek-kupka-1871-1957-2/
END:VEVENT
END:VCALENDAR