BEGIN:VCALENDAR
VERSION:2.0
PRODID:-//eventon.com NONSGML v1.0//EN
CALSCALE:GREGORIAN
METHOD:PUBLISH
BEGIN:VEVENT
UID:69e4d3b8a2ee0
DTSTAMP:20260419T130808Z
DTSTART:20180518T000000Z
DTEND:20180818T235900Z
LOCATION:Nanjing Museum 321 Zhongshan E Rd\,  Xuanwu Qu\,  Nanjing Shi\,  Jiangsu Sheng\,  Čína\,  210007
SUMMARY:Mucha and The Others. Treasures of Art Nouveau
DESCRIPTION:Mucha and The Others. Treasures of Art Nouveau\nhttps://kunsttr
 ans.cz/events/mucha-and-the-others-treasures-of-art-nouveau-3/
URL:https://kunsttrans.cz/events/mucha-and-the-others-treasures-of-art-nouveau-3/
END:VEVENT
END:VCALENDAR