BEGIN:VCALENDAR
VERSION:2.0
PRODID:-//eventon.com NONSGML v1.0//EN
CALSCALE:GREGORIAN
METHOD:PUBLISH
BEGIN:VEVENT
UID:69e4dae914683
DTSTAMP:20260419T133849Z
DTSTART:20180419T000000Z
DTEND:20180805T235900Z
LOCATION:Moravian Gallery in Brno Husova 18\,  662 26 Brno\,  Czech Republic
SUMMARY:1968: Computer.art
DESCRIPTION:1968: Computer.art\nhttps://kunsttrans.cz/en/events/1968-comput
 er-art-2/
URL:https://kunsttrans.cz/en/events/1968-computer-art-2/
END:VEVENT
END:VCALENDAR