BEGIN:VCALENDAR
VERSION:2.0
PRODID:-//eventon.com NONSGML v1.0//EN
CALSCALE:GREGORIAN
METHOD:PUBLISH
BEGIN:VEVENT
UID:69e4daf45bea2
DTSTAMP:20260419T133900Z
DTSTART:20120411
DTEND:20120413
LOCATION:Jízdárna Pražského hradu U Prašného mostu 3\,  118 00 Praha 1-Hradčany
SUMMARY:Jan Koblasa / Retrospektiva
DESCRIPTION:Jan Koblasa / Retrospektiva\nhttps://kunsttrans.cz/events/jan-k
 oblasa-retrospektiva/
URL:https://kunsttrans.cz/events/jan-koblasa-retrospektiva/
END:VEVENT
END:VCALENDAR