BEGIN:VCALENDAR
VERSION:2.0
PRODID:-//eventon.com NONSGML v1.0//EN
CALSCALE:GREGORIAN
METHOD:PUBLISH
BEGIN:VEVENT
UID:69e4c4aed1caf
DTSTAMP:20260419T120358Z
DTSTART:20120519
DTEND:20120521
LOCATION:GASK – Galerie středočeského kraje v Kutné Hoře Barborská 51/51\,  28401 Kutná Hora
SUMMARY:Europa Jagellonica / Umění a kultura ve střední Evropě za vlády Jagellonců 1386 - 1572
DESCRIPTION:Europa Jagellonica / Umění a kultura ve střední Evropě za 
 vlády Jagellonců 1386 - 1572\nhttps://kunsttrans.cz/events/europa-jagello
 nica-umeni-a-kultura-ve-stredni-evrope-za-vlady-jagelloncu-1386-1572/
URL:https://kunsttrans.cz/events/europa-jagellonica-umeni-a-kultura-ve-stredni-evrope-za-vlady-jagelloncu-1386-1572/
END:VEVENT
END:VCALENDAR