BEGIN:VCALENDAR
VERSION:2.0
PRODID:-//eventon.com NONSGML v1.0//EN
CALSCALE:GREGORIAN
METHOD:PUBLISH
BEGIN:VEVENT
UID:69e4c3be497c5
DTSTAMP:20260419T115958Z
DTSTART:20131126
DTEND:20131128
LOCATION:Gallery of West Bohemia\,  Exibition hall Masné krámy Pražská 18\,  301 00 Plzeň
SUMMARY:Gothic Art in South-western Bohemia: Images of Beauty and Salvation
DESCRIPTION:Gothic Art in South-western Bohemia: Images of Beauty and Salva
 tion\nhttps://kunsttrans.cz/en/events/gothic-art-in-south-western-bohemia-i
 mages-of-beauty-and-salvation/
URL:https://kunsttrans.cz/en/events/gothic-art-in-south-western-bohemia-images-of-beauty-and-salvation/
END:VEVENT
END:VCALENDAR