BEGIN:VCALENDAR
VERSION:2.0
PRODID:-//eventon.com NONSGML v1.0//EN
CALSCALE:GREGORIAN
METHOD:PUBLISH
BEGIN:VEVENT
UID:69e4da7829ae4
DTSTAMP:20260419T133656Z
DTSTART:20131126
DTEND:20131128
LOCATION:Západočeská galerie v Plzni\,  výstavní síň Masné krámy Pražská 18\,  301 00 Plzeň
SUMMARY:Obrazy krásy a spásy. Gotika v jihozápadních Čechách
DESCRIPTION:Obrazy krásy a spásy. Gotika v jihozápadních Čechách\nhtt
 ps://kunsttrans.cz/events/obrazy-krasy-a-spasy-gotika-v-jihozapadnich-cecha
 ch/
URL:https://kunsttrans.cz/events/obrazy-krasy-a-spasy-gotika-v-jihozapadnich-cechach/
END:VEVENT
END:VCALENDAR