BEGIN:VCALENDAR
VERSION:2.0
PRODID:-//eventon.com NONSGML v1.0//EN
CALSCALE:GREGORIAN
METHOD:PUBLISH
BEGIN:VEVENT
UID:69e4dad98518a
DTSTAMP:20260419T133833Z
DTSTART:20170813T153600Z
DTEND:20170813T153600Z
LOCATION:Olomouc Archdiocesan Museum Václavské nám. 811/4\,  779 00 Olomouc
SUMMARY:Splendor et Virtus Reginae Coeli
DESCRIPTION:Splendor et Virtus Reginae Coeli\nhttps://kunsttrans.cz/en/even
 ts/splendor-et-virtus-reginae-coeli/
URL:https://kunsttrans.cz/en/events/splendor-et-virtus-reginae-coeli/
END:VEVENT
END:VCALENDAR