BEGIN:VCALENDAR
VERSION:2.0
PRODID:-//eventon.com NONSGML v1.0//EN
CALSCALE:GREGORIAN
METHOD:PUBLISH
BEGIN:VEVENT
UID:69e4da872e3d8
DTSTAMP:20260419T133711Z
DTSTART:20140802
DTEND:20140804
LOCATION:National Gallery in Prague\,  Stone Bell House Staroměstské nám. 605/13\,  110 00 Staré Město
SUMMARY:Tim Burton
DESCRIPTION:Tim Burton\nhttps://kunsttrans.cz/en/events/tim-burton-2/
URL:https://kunsttrans.cz/en/events/tim-burton-2/
END:VEVENT
END:VCALENDAR