BEGIN:VCALENDAR
VERSION:2.0
PRODID:-//eventon.com NONSGML v1.0//EN
CALSCALE:GREGORIAN
METHOD:PUBLISH
BEGIN:VEVENT
UID:69e4c3e6d1d6b
DTSTAMP:20260419T120038Z
DTSTART:20141106
DTEND:20141108
LOCATION:National Gallery in Prague\,  Wallenstein Riding School Valdštejnská 1\,  118 00 Malá Strana
SUMMARY:The Benedictines in the Heart of Europe 800-1300 "Open the Gates of Paradise"
DESCRIPTION:The Benedictines in the Heart of Europe 800-1300 "Open the Gate
 s of Paradise"\nhttps://kunsttrans.cz/en/events/the-benedictines-in-the-hea
 rt-of-europe-800-1300-open-the-gates-of-paradise/
URL:https://kunsttrans.cz/en/events/the-benedictines-in-the-heart-of-europe-800-1300-open-the-gates-of-paradise/
END:VEVENT
END:VCALENDAR