BEGIN:VCALENDAR
VERSION:2.0
PRODID:-//eventon.com NONSGML v1.0//EN
CALSCALE:GREGORIAN
METHOD:PUBLISH
BEGIN:VEVENT
UID:69e4da8a00fac
DTSTAMP:20260419T133714Z
DTSTART:20141107T000000Z
DTEND:20150315T235900Z
LOCATION:Národní galerie v Praze\,  Valdštejnská jízdárna Valdštejnská 1\,  118 00 Malá Strana
SUMMARY:Otevři zahradu rajskou. Benediktini v srdci Evropy 800 – 1300
DESCRIPTION:Otevři zahradu rajskou. Benediktini v srdci Evropy 800 – 130
 0\nhttps://kunsttrans.cz/events/otevri-rajsou-zahradu/
URL:https://kunsttrans.cz/events/otevri-rajsou-zahradu/
END:VEVENT
END:VCALENDAR