BEGIN:VCALENDAR
VERSION:2.0
PRODID:-//eventon.com NONSGML v1.0//EN
CALSCALE:GREGORIAN
METHOD:PUBLISH
BEGIN:VEVENT
UID:69e4da84164d2
DTSTAMP:20260419T133708Z
DTSTART:20170810
DTEND:20170812
LOCATION:Museum Kampa U Sovových mlýnů 503/2\,  118 00 Malá Strana
SUMMARY:Manolo Blahník
DESCRIPTION:Manolo Blahník\nhttps://kunsttrans.cz/en/events/manolo-blahnik
 -2/
URL:https://kunsttrans.cz/en/events/manolo-blahnik-2/
END:VEVENT
END:VCALENDAR